BEGIN:VCALENDAR
VERSION:2.0
PRODID:-//Indivisible Auburn WA - ECPv6.15.20//NONSGML v1.0//EN
CALSCALE:GREGORIAN
METHOD:PUBLISH
X-WR-CALNAME:Indivisible Auburn WA
X-ORIGINAL-URL:https://indivisibleauburnwa.org
X-WR-CALDESC:Events for Indivisible Auburn WA
REFRESH-INTERVAL;VALUE=DURATION:PT1H
X-Robots-Tag:noindex
X-PUBLISHED-TTL:PT1H
BEGIN:VTIMEZONE
TZID:America/Los_Angeles
BEGIN:DAYLIGHT
TZOFFSETFROM:-0800
TZOFFSETTO:-0700
TZNAME:PDT
DTSTART:20250309T100000
END:DAYLIGHT
BEGIN:STANDARD
TZOFFSETFROM:-0700
TZOFFSETTO:-0800
TZNAME:PST
DTSTART:20251102T090000
END:STANDARD
BEGIN:DAYLIGHT
TZOFFSETFROM:-0800
TZOFFSETTO:-0700
TZNAME:PDT
DTSTART:20260308T100000
END:DAYLIGHT
BEGIN:STANDARD
TZOFFSETFROM:-0700
TZOFFSETTO:-0800
TZNAME:PST
DTSTART:20261101T090000
END:STANDARD
BEGIN:DAYLIGHT
TZOFFSETFROM:-0800
TZOFFSETTO:-0700
TZNAME:PDT
DTSTART:20270314T100000
END:DAYLIGHT
BEGIN:STANDARD
TZOFFSETFROM:-0700
TZOFFSETTO:-0800
TZNAME:PST
DTSTART:20271107T090000
END:STANDARD
END:VTIMEZONE
BEGIN:VEVENT
DTSTART;TZID=America/Los_Angeles:20260213T190000
DTEND;TZID=America/Los_Angeles:20260213T200000
DTSTAMP:20260423T042918
CREATED:20260204T161905Z
LAST-MODIFIED:20260406T152807Z
UID:10001141-1771009200-1771012800@indivisibleauburnwa.org
SUMMARY:Indivisible Voices
DESCRIPTION:Indivisible Voices are people who are members of Indivisible in various cities joining our voices together to fight racism\, protect immigrants and defend our democracy for the people by the people. We will do this in all forms of the arts (singing\, instruments\, theater\, movement and dance. We will participate in solidarity events and rallies. All are welcome to join. \n  \nJoin Facebook group for details about location in Auburn:\nhttps://www.facebook.com/groups/624396230731771 \nContact indivisiblevoiceswa@gmail.com for more information.
URL:https://indivisibleauburnwa.org/calendar/indivisible-voices/2026-02-13/
LOCATION:Auburn\, WA\, Auburn\, United States
CATEGORIES:Community Event,Featured
ATTACH;FMTTYPE=image/png:https://indivisibleauburnwa.org/wp-content/uploads/2026/02/Indivisible-voices-logo-1920-x-1080-px-e1771600575466.png
ORGANIZER;CN="Sarah Samuelson":MAILTO:indivisiblevoiceswa@gmail.com
END:VEVENT
BEGIN:VEVENT
DTSTART;TZID=America/Los_Angeles:20260212T120000
DTEND;TZID=America/Los_Angeles:20260212T200000
DTSTAMP:20260423T042918
CREATED:20260224T024534Z
LAST-MODIFIED:20260225T155202Z
UID:10001064-1770897600-1770926400@indivisibleauburnwa.org
SUMMARY:Flip the House: Take Action with Team Adam Smith
DESCRIPTION:Flip the House: Take Action with Team Adam Smith: Flip the house with Team Adam Smith for a biweekly in person action events focused on winning Democratic primaries in the most competitive races across the country — and building the volunteer power we’ll need for WA’s GOTV push this August. Drop in anytime 12-8pm on the 2nd and 4th Thursday. Each session connects you directly to the highest-impact work: phone banking\, voter outreach\, and targeted organizing that moves real votes in real elections. Team Smith identifies where your time will matter most — you show up and help win. Address provided upon RSVP! The flyer includes all upcoming dates and targeted states. Our office will be open from 12-8pm every 2nd and 4th Thursday – drop in whenever works for you and help us elect Dems across the country! Email teamsmith@electadamsmith.com with questions\, comments or concerns. \n\nWHEN: 2nd and 4th Thursday Thu\, Feb 12 · 12:00pm — Tue\, Aug 4 · 8:00pm\n\n\n\nauburn campaign office – rsvp for address\n\nRSVP LINK
URL:https://indivisibleauburnwa.org/calendar/flip-the-house/
LOCATION:Team Adam Smith
CATEGORIES:Action,Work Session
ATTACH;FMTTYPE=image/jpeg:https://indivisibleauburnwa.org/wp-content/uploads/2026/02/FLIP-THE-HOUSE.jpg
ORGANIZER;CN="Team Adam Smith":MAILTO:teamsmith@electadamsmith.com
END:VEVENT
BEGIN:VEVENT
DTSTART;TZID=America/Los_Angeles:20260211T180000
DTEND;TZID=America/Los_Angeles:20260211T193000
DTSTAMP:20260423T042918
CREATED:20260127T163459Z
LAST-MODIFIED:20260128T163006Z
UID:10000441-1770832800-1770838200@indivisibleauburnwa.org
SUMMARY:Know Your Rights - WAISN
DESCRIPTION:Know Your Rights\nJoin this virtual workshop to learn how to support yourself and your community during encounters with immigration enforcement agents. This Know Your Rights training covers what to do if Immigration and Customs Enforcement comes to your home or workplace\, how to identify valid warrants\, and how to assert your rights safely.
URL:https://indivisibleauburnwa.org/calendar/know-your-rights-waisn/
LOCATION:Online
CATEGORIES:Training,Webinar
ATTACH;FMTTYPE=image/webp:https://indivisibleauburnwa.org/wp-content/uploads/2026/01/waisn-know-your-rights-e1769612686950.webp
END:VEVENT
BEGIN:VEVENT
DTSTART;TZID=America/Los_Angeles:20260206T190000
DTEND;TZID=America/Los_Angeles:20260206T200000
DTSTAMP:20260423T042918
CREATED:20260204T161905Z
LAST-MODIFIED:20260406T152807Z
UID:10001140-1770404400-1770408000@indivisibleauburnwa.org
SUMMARY:Indivisible Voices
DESCRIPTION:Indivisible Voices are people who are members of Indivisible in various cities joining our voices together to fight racism\, protect immigrants and defend our democracy for the people by the people. We will do this in all forms of the arts (singing\, instruments\, theater\, movement and dance. We will participate in solidarity events and rallies. All are welcome to join. \n  \nJoin Facebook group for details about location in Auburn:\nhttps://www.facebook.com/groups/624396230731771 \nContact indivisiblevoiceswa@gmail.com for more information.
URL:https://indivisibleauburnwa.org/calendar/indivisible-voices/2026-02-06/
LOCATION:Auburn\, WA\, Auburn\, United States
CATEGORIES:Community Event,Featured
ATTACH;FMTTYPE=image/png:https://indivisibleauburnwa.org/wp-content/uploads/2026/02/Indivisible-voices-logo-1920-x-1080-px-e1771600575466.png
ORGANIZER;CN="Sarah Samuelson":MAILTO:indivisiblevoiceswa@gmail.com
END:VEVENT
BEGIN:VEVENT
DTSTART;TZID=America/Los_Angeles:20260206T180000
DTEND;TZID=America/Los_Angeles:20260206T200000
DTSTAMP:20260423T042918
CREATED:20260112T204946Z
LAST-MODIFIED:20260223T162442Z
UID:10000436-1770400800-1770408000@indivisibleauburnwa.org
SUMMARY:Rapid Response Training
DESCRIPTION:Rapid Response Training:\nJoin this virtual training to learn more about existing rapid response networks across the state that mobilize for deportation defense\, and work to support communities and keep families together. \n  \n 
URL:https://indivisibleauburnwa.org/calendar/rapid-response-training/2026-02-06/
LOCATION:Online
CATEGORIES:Community Event,Training,Webinar
ATTACH;FMTTYPE=image/jpeg:https://indivisibleauburnwa.org/wp-content/uploads/2026/01/Rapid-Response-logo-generated.jpg
END:VEVENT
BEGIN:VEVENT
DTSTART;TZID=America/Los_Angeles:20260205T181000
DTEND;TZID=America/Los_Angeles:20260205T194000
DTSTAMP:20260423T042918
CREATED:20260114T162224Z
LAST-MODIFIED:20260114T162226Z
UID:10000370-1770315000-1770320400@indivisibleauburnwa.org
SUMMARY:Monthly Meeting
DESCRIPTION:Monthly Meeting: \nJoin us for our in-person meeting this Thursday. Time: 6:10 – 7:40. (Optional newcomer orientation at 5:40.) \nSign up in Mobilize:\nhttps://www.mobilize.us/indivisibleauburnwa/event/886504/ \n  \n  \n 
URL:https://indivisibleauburnwa.org/calendar/monthly-meeting-7-2/
LOCATION:Auburn First United Methodist Church\, 100 N ST NE\, Auburn\, 98002\, United States
CATEGORIES:Meeting
ATTACH;FMTTYPE=image/png:https://indivisibleauburnwa.org/wp-content/uploads/2025/10/Indivisible-picnicCalendar.png
END:VEVENT
BEGIN:VEVENT
DTSTART;TZID=America/Los_Angeles:20260131T120000
DTEND;TZID=America/Los_Angeles:20260131T130000
DTSTAMP:20260423T042918
CREATED:20260112T203221Z
LAST-MODIFIED:20260112T203426Z
UID:10000435-1769860800-1769864400@indivisibleauburnwa.org
SUMMARY:Signs of Fascism
DESCRIPTION:Signs of Fascism:\nJoin us Saturday\, January 31\, noon – 1:00\, to educate our neighbors on the fascist actions of our government. Our friends from Indivisible Covington will join us! \nLocation: 15th ST NE/Auburn Way N\, Auburn WA 98002 \n  \n 
URL:https://indivisibleauburnwa.org/calendar/signs-of-fascism-2/
LOCATION:Auburn Way North & 15th Street Northeast\, Auburn\, 98002\, United States
CATEGORIES:Community Event,Rally
ATTACH;FMTTYPE=image/png:https://indivisibleauburnwa.org/wp-content/uploads/2025/12/signsoffascism-calendar-e1765211951325.png
END:VEVENT
BEGIN:VEVENT
DTSTART;TZID=America/Los_Angeles:20260125T110000
DTEND;TZID=America/Los_Angeles:20260125T130000
DTSTAMP:20260423T042918
CREATED:20251214T185223Z
LAST-MODIFIED:20251214T185225Z
UID:10000431-1769338800-1769346000@indivisibleauburnwa.org
SUMMARY:Pramila Jayapal's Resistance Lab: Virtual Organizing Training
DESCRIPTION:Pramila Jayapal’s Resistance Lab: Virtual Organizing Training \nThe Resistance Lab is a series of trainings that are developed specifically for this moment. In this first lab\, we look at how non-violent movements around the world have responded to leaders who seize power in authoritarian ways and the most effective tools and tactics to utilize in these moments. We offer frameworks to understand this moment at home\, and incorporate interactive conversation with others to help create community and build our resistance movement. \nSign up here:\nhttps://www.mobilize.us/pramilaforcongress/event/876261/ \n 
URL:https://indivisibleauburnwa.org/calendar/pramila-jayapals-resistance-lab-virtual-organizing-training/
LOCATION:Online
CATEGORIES:Training,Webinar
ATTACH;FMTTYPE=image/jpeg:https://indivisibleauburnwa.org/wp-content/uploads/2025/12/Resistance-Lab.jpg
END:VEVENT
BEGIN:VEVENT
DTSTART;TZID=America/Los_Angeles:20260123T130000
DTEND;TZID=America/Los_Angeles:20260123T143000
DTSTAMP:20260423T042918
CREATED:20260122T231419Z
LAST-MODIFIED:20260122T231421Z
UID:10000439-1769173200-1769178600@indivisibleauburnwa.org
SUMMARY:Auburn WA ICE OUT Rally: We Stand with Minnesota
DESCRIPTION:Auburn WA ICE OUT Rally: We Stand with Minnesota\nFriday we join Minnesota organizers and national allies to demand we get ICE out of our communities. Come join us in a peaceful protest to communicate three themes: -We stand in solidarity with Minnesotans under siege of ICE\, -We demand corporations stand up to ICE and end cooperation\, -We call on Congress to rein in ICE. \nJoin us at Auburn Way North & 15th Street Northeast. \nA core principle behind all Indivisible events is a commitment to nonviolent action. We expect all participants to seek to deescalate any potential confrontation with those who disagree with our values and to act lawfully at these events. Weapons of any kind\, including those legally permitted\, should not be brought to events. \nJoin us here:\nhttps://www.mobilize.us/mobilize/event/890417/ \n 
URL:https://indivisibleauburnwa.org/calendar/auburn-wa-ice-out-rally-we-stand-with-minnesota/
LOCATION:Auburn Way North & 15th Street Northeast\, Auburn\, 98002\, United States
CATEGORIES:Action,Rally
ATTACH;FMTTYPE=image/jpeg:https://indivisibleauburnwa.org/wp-content/uploads/2026/01/iceoutcalendar1-1.jpg
END:VEVENT
END:VCALENDAR