BEGIN:VCALENDAR
VERSION:2.0
PRODID:-//Indivisible Auburn WA - ECPv6.15.20//NONSGML v1.0//EN
CALSCALE:GREGORIAN
METHOD:PUBLISH
X-ORIGINAL-URL:https://indivisibleauburnwa.org
X-WR-CALDESC:Events for Indivisible Auburn WA
REFRESH-INTERVAL;VALUE=DURATION:PT1H
X-Robots-Tag:noindex
X-PUBLISHED-TTL:PT1H
BEGIN:VTIMEZONE
TZID:America/Los_Angeles
BEGIN:DAYLIGHT
TZOFFSETFROM:-0800
TZOFFSETTO:-0700
TZNAME:PDT
DTSTART:20250309T100000
END:DAYLIGHT
BEGIN:STANDARD
TZOFFSETFROM:-0700
TZOFFSETTO:-0800
TZNAME:PST
DTSTART:20251102T090000
END:STANDARD
BEGIN:DAYLIGHT
TZOFFSETFROM:-0800
TZOFFSETTO:-0700
TZNAME:PDT
DTSTART:20260308T100000
END:DAYLIGHT
BEGIN:STANDARD
TZOFFSETFROM:-0700
TZOFFSETTO:-0800
TZNAME:PST
DTSTART:20261101T090000
END:STANDARD
BEGIN:DAYLIGHT
TZOFFSETFROM:-0800
TZOFFSETTO:-0700
TZNAME:PDT
DTSTART:20270314T100000
END:DAYLIGHT
BEGIN:STANDARD
TZOFFSETFROM:-0700
TZOFFSETTO:-0800
TZNAME:PST
DTSTART:20271107T090000
END:STANDARD
END:VTIMEZONE
BEGIN:VEVENT
DTSTART;TZID=America/Los_Angeles:20260305T181000
DTEND;TZID=America/Los_Angeles:20260305T194000
DTSTAMP:20260423T024942
CREATED:20251208T162306Z
LAST-MODIFIED:20260412T154348Z
UID:10000371-1772734200-1772739600@indivisibleauburnwa.org
SUMMARY:Monthly Meeting
DESCRIPTION:Monthly Meeting: \nJoin us for our in-person meeting this Thursday. Time: 6:10 – 7:40. (Optional newcomer orientation at 5:40.). \n  \nLet us know your are coming in Mobilize: \nhttps://www.mobilize.us/indivisibleauburnwa/event/900082/ \n  \n 
URL:https://indivisibleauburnwa.org/calendar/monthly-meeting-7/2026-03-05/
LOCATION:Auburn First United Methodist Church\, 100 N ST NE\, Auburn\, 98002\, United States
CATEGORIES:main,Meeting
ATTACH;FMTTYPE=image/png:https://indivisibleauburnwa.org/wp-content/uploads/2025/10/Indivisible-picnicCalendar.png
END:VEVENT
BEGIN:VEVENT
DTSTART;TZID=America/Los_Angeles:20260306T173000
DTEND;TZID=America/Los_Angeles:20260306T200000
DTSTAMP:20260423T024942
CREATED:20260223T161116Z
LAST-MODIFIED:20260223T161116Z
UID:10000718-1772818200-1772827200@indivisibleauburnwa.org
SUMMARY:WAISN Rapid Response Training In-Person Watch Party
DESCRIPTION:WAISN Rapid Response Training In-Person Watch Party\nJoin us and meet other members of the Auburn community interested in helping to keep our community connected and safe. We will watch the WAISN virtual training to learn more about existing rapid response networks across the state that mobilize for deportation defense\, and work to support communities and keep families together. \nWe’ll begin at 5:30 with a short introduction\, then view online training together. After the online portion of the meeting\, we will talk about next steps in Auburn. \nWhere: Once registered you will be given the address to the meeting location in Auburn \nRegister on Mobilize:\nhttps://www.mobilize.us/indivisibleauburnwa/event/909258/
URL:https://indivisibleauburnwa.org/calendar/waisn-rapid-response-training-in-person-watch-party/2026-03-06/
LOCATION:Online
CATEGORIES:Community Event,Training,Webinar
ATTACH;FMTTYPE=image/jpeg:https://indivisibleauburnwa.org/wp-content/uploads/2026/02/training.jpg
END:VEVENT
BEGIN:VEVENT
DTSTART;TZID=America/Los_Angeles:20260306T180000
DTEND;TZID=America/Los_Angeles:20260306T200000
DTSTAMP:20260423T024942
CREATED:20260112T204946Z
LAST-MODIFIED:20260223T162442Z
UID:10000719-1772820000-1772827200@indivisibleauburnwa.org
SUMMARY:Rapid Response Training
DESCRIPTION:Rapid Response Training:\nJoin this virtual training to learn more about existing rapid response networks across the state that mobilize for deportation defense\, and work to support communities and keep families together. \n  \n 
URL:https://indivisibleauburnwa.org/calendar/rapid-response-training/2026-03-06/
LOCATION:Online
CATEGORIES:Community Event,Training,Webinar
ATTACH;FMTTYPE=image/jpeg:https://indivisibleauburnwa.org/wp-content/uploads/2026/01/Rapid-Response-logo-generated.jpg
END:VEVENT
BEGIN:VEVENT
DTSTART;TZID=America/Los_Angeles:20260306T190000
DTEND;TZID=America/Los_Angeles:20260306T200000
DTSTAMP:20260423T024942
CREATED:20260204T161905Z
LAST-MODIFIED:20260406T152807Z
UID:10001144-1772823600-1772827200@indivisibleauburnwa.org
SUMMARY:Indivisible Voices
DESCRIPTION:Indivisible Voices are people who are members of Indivisible in various cities joining our voices together to fight racism\, protect immigrants and defend our democracy for the people by the people. We will do this in all forms of the arts (singing\, instruments\, theater\, movement and dance. We will participate in solidarity events and rallies. All are welcome to join. \n  \nJoin Facebook group for details about location in Auburn:\nhttps://www.facebook.com/groups/624396230731771 \nContact indivisiblevoiceswa@gmail.com for more information.
URL:https://indivisibleauburnwa.org/calendar/indivisible-voices/2026-03-06/
LOCATION:Auburn\, WA\, Auburn\, United States
CATEGORIES:Community Event,Featured
ATTACH;FMTTYPE=image/png:https://indivisibleauburnwa.org/wp-content/uploads/2026/02/Indivisible-voices-logo-1920-x-1080-px-e1771600575466.png
ORGANIZER;CN="Sarah Samuelson":MAILTO:indivisiblevoiceswa@gmail.com
END:VEVENT
END:VCALENDAR